BEGIN:VCALENDAR
PRODID:-//AT Content Types//AT Event//EN
VERSION:2.0
METHOD:PUBLISH
BEGIN:VEVENT
DTSTAMP:20260420T083410Z
CREATED:20260107T202736Z
UID:ATEvent-7036cf90a5f74aae886fd717e1014a79
LAST-MODIFIED:20260107T202808Z
SUMMARY:Junghunde am 16.03.2026
DTSTART:20260316T161500Z
DTEND:20260316T171500Z
DESCRIPTION:Ihr Hund wird zum Teenager. Ab der ~24. Woche entwächst I
 hr Hund dem Krabbelalter und kommt in die Flegelwochen. In dieser span
 nenden Phase begleiten wir Sie und Ihren Hund. Sie werden wertvolle Ti
 pps und den Erfahrungsaustausch zu schätzen wissen.
CATEGORIES:Kurstermin, Junghunde
CLASS:PUBLIC
END:VEVENT
END:VCALENDAR
