BEGIN:VCALENDAR
PRODID:-//AT Content Types//AT Event//EN
VERSION:1.0
BEGIN:VEVENT
DTSTART:20260321T121500Z
DTEND:20260321T134500Z
DCREATED:20260309T153243Z
UID:ATEvent-a54e2c171c654a299532129b5ca9badf
SEQUENCE:0
LAST-MODIFIED:20260309T153856Z
SUMMARY:Begleithunde-Ausbildung am 21.03.2026
DESCRIPTION:Die Begleithunde-Ausbildung endet mit der Begleithunde-\, 
 Gehorsams-\, Verkehrssicherheitsprüfung (BGVP) des Verbandes IRJGV. S
 ie erfordert familienfreundlichen Gehorsam\, Verkehrstauglichkeit und 
 Sachkunde über Hunde.
PRIORITY:3
TRANSP:0
END:VEVENT
END:VCALENDAR
