BEGIN:VCALENDAR
PRODID:-//AT Content Types//AT Event//EN
VERSION:1.0
BEGIN:VEVENT
DTSTART:20260314T121500Z
DTEND:20260314T134500Z
DCREATED:20260309T153243Z
UID:ATEvent-0ef8f99c41d141199f43d52f3cb5bcb1
SEQUENCE:0
LAST-MODIFIED:20260309T153855Z
SUMMARY:Begleithunde-Ausbildung am 14.03.2026
DESCRIPTION:Die Begleithunde-Ausbildung endet mit der Begleithunde-\, 
 Gehorsams-\, Verkehrssicherheitsprüfung (BGVP) des Verbandes IRJGV. S
 ie erfordert familienfreundlichen Gehorsam\, Verkehrstauglichkeit und 
 Sachkunde über Hunde.
PRIORITY:3
TRANSP:0
END:VEVENT
END:VCALENDAR
